BEGIN:VCALENDAR
VERSION:2.0
PRODID:-//FM100 - ECPv5.6.0//NONSGML v1.0//EN
CALSCALE:GREGORIAN
METHOD:PUBLISH
X-WR-CALNAME:FM100
X-ORIGINAL-URL:https://www.kccnfm100.com
X-WR-CALDESC:Events for FM100
BEGIN:VTIMEZONE
TZID:Pacific/Honolulu
BEGIN:STANDARD
TZOFFSETFROM:-1000
TZOFFSETTO:-1000
TZNAME:HST
DTSTART:20200101T000000
END:STANDARD
END:VTIMEZONE
BEGIN:VEVENT
DTSTART;TZID=Pacific/Honolulu:20200904T190000
DTEND;TZID=Pacific/Honolulu:20200904T220000
DTSTAMP:20260422T090139
CREATED:20200903T120416Z
LAST-MODIFIED:20200903T120416Z
UID:74974-1599246000-1599256800@www.kccnfm100.com
SUMMARY:2020 Okinawan Festival
DESCRIPTION:Started in 1982 by the Hawaii United Okinawa Association\, the Okinawan Festival celebrates all things Okinawan and brings together Okinawans and Okinawans-at-heart. Our theme of “Sharing Uchinanchu Aloha” is embedded in everything we do.  Join us for the ono food\, beautiful performances\, educational cultural exhibits and much more. \nYour continued safety is our number one priority\, so Hawaii United Okinawa Association will be striving to bring you all the excitement of an in-person Okinawan Festival from the comfort of your home. You can enjoy a front-row seat to all of the singing\, dancing\, speeches\, and interviews from anywhere around the world! We encourage you cook your favorite Okinawan Dish or order take-out from your favorite Okinawan-owned restaurant\, and enjoy the best our culture has to offer. \n  \nThis event will take place virtually September 4th – September 7th
URL:https://www.kccnfm100.com/event/2020-okinawan-festival/2020-09-04/
LOCATION:Virtual Event
ATTACH;FMTTYPE=:
END:VEVENT
END:VCALENDAR