BEGIN:VCALENDAR
VERSION:2.0
PRODID:-//FM100 - ECPv5.6.0//NONSGML v1.0//EN
CALSCALE:GREGORIAN
METHOD:PUBLISH
X-WR-CALNAME:FM100
X-ORIGINAL-URL:https://www.kccnfm100.com
X-WR-CALDESC:Events for FM100
BEGIN:VTIMEZONE
TZID:Pacific/Honolulu
BEGIN:STANDARD
TZOFFSETFROM:-1000
TZOFFSETTO:-1000
TZNAME:HST
DTSTART:20190101T000000
END:STANDARD
END:VTIMEZONE
BEGIN:VEVENT
DTSTART;VALUE=DATE:20191224
DTEND;VALUE=DATE:20191225
DTSTAMP:20260421T204022
CREATED:20190122T224252Z
LAST-MODIFIED:20190122T224252Z
UID:52210-1577145600-1577231999@www.kccnfm100.com
SUMMARY:Christmas Eve
DESCRIPTION:
URL:https://www.kccnfm100.com/event/christmas-eve/2019-12-24/
ATTACH;FMTTYPE=:
END:VEVENT
END:VCALENDAR