BEGIN:VCALENDAR
VERSION:2.0
PRODID:-//FM100 - ECPv5.6.0//NONSGML v1.0//EN
CALSCALE:GREGORIAN
METHOD:PUBLISH
X-WR-CALNAME:FM100
X-ORIGINAL-URL:https://www.kccnfm100.com
X-WR-CALDESC:Events for FM100
BEGIN:VTIMEZONE
TZID:Pacific/Honolulu
BEGIN:STANDARD
TZOFFSETFROM:-1000
TZOFFSETTO:-1000
TZNAME:HST
DTSTART:20200101T000000
END:STANDARD
END:VTIMEZONE
BEGIN:VEVENT
DTSTART;TZID=Pacific/Honolulu:20201002T073000
DTEND;TZID=Pacific/Honolulu:20201002T093000
DTSTAMP:20260422T102639
CREATED:20201008T204835Z
LAST-MODIFIED:20201008T204835Z
UID:75499-1601623800-1601631000@www.kccnfm100.com
SUMMARY:Drive-thru Voter Registration Event with FM100's Darren Balbarrens
DESCRIPTION:Get ready with FM100’s Darren Balbarren for the 2020 Elections by checking your voter registration at elections.hawaii.gov or #RegisterToVote\nIf you can’t get online to register\, Election Officials are having drive-thru voter registration at Aloha Stadium!  Join FM100 from 7:30am to 9:30am to help people register all from the safety of your car! New voters must register by October 5 to automatically receive their ballot in the mail.
URL:https://www.kccnfm100.com/event/drive-thru-voter-registration-event-with-fm100s-darren-balbarrens/2020-10-02/
LOCATION:Aloha Stadium\, 99-500 Salt Lake Blvd\, Honolulu\, HI\, 96818\, United States
ATTACH;FMTTYPE=:
END:VEVENT
END:VCALENDAR