BEGIN:VCALENDAR
VERSION:2.0
PRODID:-//FM100 - ECPv5.6.0//NONSGML v1.0//EN
CALSCALE:GREGORIAN
METHOD:PUBLISH
X-WR-CALNAME:FM100
X-ORIGINAL-URL:https://www.kccnfm100.com
X-WR-CALDESC:Events for FM100
BEGIN:VTIMEZONE
TZID:Pacific/Honolulu
BEGIN:STANDARD
TZOFFSETFROM:-1000
TZOFFSETTO:-1000
TZNAME:HST
DTSTART:20250101T000000
END:STANDARD
END:VTIMEZONE
BEGIN:VEVENT
DTSTART;TZID=Pacific/Honolulu:20251227T220000
DTEND;TZID=Pacific/Honolulu:20251227T235900
DTSTAMP:20260421T210635
CREATED:20250807T010119Z
LAST-MODIFIED:20250807T010119Z
UID:99624-1766872800-1766879940@www.kccnfm100.com
SUMMARY:Saturday Night LIVE at Moani Waikiki
DESCRIPTION:Heineken Silver presents the KCCN FM100 Saturday Night Live at Moani Waikiki. Join the KCCN FM100 crew for the best local bands in Hawaii every Saturday Night. \n21+ Welcome (after 10pm) \n10:00pm – 1:30am \nCOVER CHARGE ($10 – $30) \nDJ Krazy K | Hosted By Micah Banks
URL:https://www.kccnfm100.com/event/saturday-night-live-at-moani-waikiki-6/2025-12-27/
LOCATION:Moani Waikiki\, 2330 Kalakaua Ave #312\, Honolulu\, HI\, 96815\, United States
CATEGORIES:Club,Concert
ATTACH;FMTTYPE=image/png:https://dehayf5mhw1h7.cloudfront.net/wp-content/uploads/sites/1858/2022/02/05000009/SNL-April-banner.png
END:VEVENT
BEGIN:VEVENT
DTSTART;TZID=Pacific/Honolulu:20251220T220000
DTEND;TZID=Pacific/Honolulu:20251220T235900
DTSTAMP:20260421T210635
CREATED:20250807T010119Z
LAST-MODIFIED:20250807T010119Z
UID:99623-1766268000-1766275140@www.kccnfm100.com
SUMMARY:Saturday Night LIVE at Moani Waikiki
DESCRIPTION:Heineken Silver presents the KCCN FM100 Saturday Night Live at Moani Waikiki. Join the KCCN FM100 crew for the best local bands in Hawaii every Saturday Night. \n21+ Welcome (after 10pm) \n10:00pm – 1:30am \nCOVER CHARGE ($10 – $30) \nDJ Krazy K | Hosted By Micah Banks
URL:https://www.kccnfm100.com/event/saturday-night-live-at-moani-waikiki-6/2025-12-20/
LOCATION:Moani Waikiki\, 2330 Kalakaua Ave #312\, Honolulu\, HI\, 96815\, United States
CATEGORIES:Club,Concert
ATTACH;FMTTYPE=image/png:https://dehayf5mhw1h7.cloudfront.net/wp-content/uploads/sites/1858/2022/02/05000009/SNL-April-banner.png
END:VEVENT
BEGIN:VEVENT
DTSTART;TZID=Pacific/Honolulu:20251213T220000
DTEND;TZID=Pacific/Honolulu:20251213T235900
DTSTAMP:20260421T210635
CREATED:20250807T010119Z
LAST-MODIFIED:20250807T010119Z
UID:99622-1765663200-1765670340@www.kccnfm100.com
SUMMARY:Saturday Night LIVE at Moani Waikiki
DESCRIPTION:Heineken Silver presents the KCCN FM100 Saturday Night Live at Moani Waikiki. Join the KCCN FM100 crew for the best local bands in Hawaii every Saturday Night. \n21+ Welcome (after 10pm) \n10:00pm – 1:30am \nCOVER CHARGE ($10 – $30) \nDJ Krazy K | Hosted By Micah Banks
URL:https://www.kccnfm100.com/event/saturday-night-live-at-moani-waikiki-6/2025-12-13/
LOCATION:Moani Waikiki\, 2330 Kalakaua Ave #312\, Honolulu\, HI\, 96815\, United States
CATEGORIES:Club,Concert
ATTACH;FMTTYPE=image/png:https://dehayf5mhw1h7.cloudfront.net/wp-content/uploads/sites/1858/2022/02/05000009/SNL-April-banner.png
END:VEVENT
BEGIN:VEVENT
DTSTART;TZID=Pacific/Honolulu:20251206T220000
DTEND;TZID=Pacific/Honolulu:20251206T235900
DTSTAMP:20260421T210635
CREATED:20250807T010119Z
LAST-MODIFIED:20250807T010119Z
UID:99621-1765058400-1765065540@www.kccnfm100.com
SUMMARY:Saturday Night LIVE at Moani Waikiki
DESCRIPTION:Heineken Silver presents the KCCN FM100 Saturday Night Live at Moani Waikiki. Join the KCCN FM100 crew for the best local bands in Hawaii every Saturday Night. \n21+ Welcome (after 10pm) \n10:00pm – 1:30am \nCOVER CHARGE ($10 – $30) \nDJ Krazy K | Hosted By Micah Banks
URL:https://www.kccnfm100.com/event/saturday-night-live-at-moani-waikiki-6/2025-12-06/
LOCATION:Moani Waikiki\, 2330 Kalakaua Ave #312\, Honolulu\, HI\, 96815\, United States
CATEGORIES:Club,Concert
ATTACH;FMTTYPE=image/png:https://dehayf5mhw1h7.cloudfront.net/wp-content/uploads/sites/1858/2022/02/05000009/SNL-April-banner.png
END:VEVENT
BEGIN:VEVENT
DTSTART;TZID=Pacific/Honolulu:20251129T220000
DTEND;TZID=Pacific/Honolulu:20251129T235900
DTSTAMP:20260421T210635
CREATED:20250807T010119Z
LAST-MODIFIED:20250807T010119Z
UID:99620-1764453600-1764460740@www.kccnfm100.com
SUMMARY:Saturday Night LIVE at Moani Waikiki
DESCRIPTION:Heineken Silver presents the KCCN FM100 Saturday Night Live at Moani Waikiki. Join the KCCN FM100 crew for the best local bands in Hawaii every Saturday Night. \n21+ Welcome (after 10pm) \n10:00pm – 1:30am \nCOVER CHARGE ($10 – $30) \nDJ Krazy K | Hosted By Micah Banks
URL:https://www.kccnfm100.com/event/saturday-night-live-at-moani-waikiki-6/2025-11-29/
LOCATION:Moani Waikiki\, 2330 Kalakaua Ave #312\, Honolulu\, HI\, 96815\, United States
CATEGORIES:Club,Concert
ATTACH;FMTTYPE=image/png:https://dehayf5mhw1h7.cloudfront.net/wp-content/uploads/sites/1858/2022/02/05000009/SNL-April-banner.png
END:VEVENT
BEGIN:VEVENT
DTSTART;TZID=Pacific/Honolulu:20251122T220000
DTEND;TZID=Pacific/Honolulu:20251122T235900
DTSTAMP:20260421T210635
CREATED:20250807T010119Z
LAST-MODIFIED:20250807T010119Z
UID:99619-1763848800-1763855940@www.kccnfm100.com
SUMMARY:Saturday Night LIVE at Moani Waikiki
DESCRIPTION:Heineken Silver presents the KCCN FM100 Saturday Night Live at Moani Waikiki. Join the KCCN FM100 crew for the best local bands in Hawaii every Saturday Night. \n21+ Welcome (after 10pm) \n10:00pm – 1:30am \nCOVER CHARGE ($10 – $30) \nDJ Krazy K | Hosted By Micah Banks
URL:https://www.kccnfm100.com/event/saturday-night-live-at-moani-waikiki-6/2025-11-22/
LOCATION:Moani Waikiki\, 2330 Kalakaua Ave #312\, Honolulu\, HI\, 96815\, United States
CATEGORIES:Club,Concert
ATTACH;FMTTYPE=image/png:https://dehayf5mhw1h7.cloudfront.net/wp-content/uploads/sites/1858/2022/02/05000009/SNL-April-banner.png
END:VEVENT
BEGIN:VEVENT
DTSTART;TZID=Pacific/Honolulu:20251115T220000
DTEND;TZID=Pacific/Honolulu:20251115T235900
DTSTAMP:20260421T210635
CREATED:20250807T010119Z
LAST-MODIFIED:20250807T010119Z
UID:99618-1763244000-1763251140@www.kccnfm100.com
SUMMARY:Saturday Night LIVE at Moani Waikiki
DESCRIPTION:Heineken Silver presents the KCCN FM100 Saturday Night Live at Moani Waikiki. Join the KCCN FM100 crew for the best local bands in Hawaii every Saturday Night. \n21+ Welcome (after 10pm) \n10:00pm – 1:30am \nCOVER CHARGE ($10 – $30) \nDJ Krazy K | Hosted By Micah Banks
URL:https://www.kccnfm100.com/event/saturday-night-live-at-moani-waikiki-6/2025-11-15/
LOCATION:Moani Waikiki\, 2330 Kalakaua Ave #312\, Honolulu\, HI\, 96815\, United States
CATEGORIES:Club,Concert
ATTACH;FMTTYPE=image/png:https://dehayf5mhw1h7.cloudfront.net/wp-content/uploads/sites/1858/2022/02/05000009/SNL-April-banner.png
END:VEVENT
BEGIN:VEVENT
DTSTART;TZID=Pacific/Honolulu:20251108T220000
DTEND;TZID=Pacific/Honolulu:20251108T235900
DTSTAMP:20260421T210635
CREATED:20250807T010119Z
LAST-MODIFIED:20250807T010119Z
UID:99617-1762639200-1762646340@www.kccnfm100.com
SUMMARY:Saturday Night LIVE at Moani Waikiki
DESCRIPTION:Heineken Silver presents the KCCN FM100 Saturday Night Live at Moani Waikiki. Join the KCCN FM100 crew for the best local bands in Hawaii every Saturday Night. \n21+ Welcome (after 10pm) \n10:00pm – 1:30am \nCOVER CHARGE ($10 – $30) \nDJ Krazy K | Hosted By Micah Banks
URL:https://www.kccnfm100.com/event/saturday-night-live-at-moani-waikiki-6/2025-11-08/
LOCATION:Moani Waikiki\, 2330 Kalakaua Ave #312\, Honolulu\, HI\, 96815\, United States
CATEGORIES:Club,Concert
ATTACH;FMTTYPE=image/png:https://dehayf5mhw1h7.cloudfront.net/wp-content/uploads/sites/1858/2022/02/05000009/SNL-April-banner.png
END:VEVENT
BEGIN:VEVENT
DTSTART;TZID=Pacific/Honolulu:20251101T220000
DTEND;TZID=Pacific/Honolulu:20251101T235900
DTSTAMP:20260421T210635
CREATED:20250807T010119Z
LAST-MODIFIED:20250807T010119Z
UID:99616-1762034400-1762041540@www.kccnfm100.com
SUMMARY:Saturday Night LIVE at Moani Waikiki
DESCRIPTION:Heineken Silver presents the KCCN FM100 Saturday Night Live at Moani Waikiki. Join the KCCN FM100 crew for the best local bands in Hawaii every Saturday Night. \n21+ Welcome (after 10pm) \n10:00pm – 1:30am \nCOVER CHARGE ($10 – $30) \nDJ Krazy K | Hosted By Micah Banks
URL:https://www.kccnfm100.com/event/saturday-night-live-at-moani-waikiki-6/2025-11-01/
LOCATION:Moani Waikiki\, 2330 Kalakaua Ave #312\, Honolulu\, HI\, 96815\, United States
CATEGORIES:Club,Concert
ATTACH;FMTTYPE=image/png:https://dehayf5mhw1h7.cloudfront.net/wp-content/uploads/sites/1858/2022/02/05000009/SNL-April-banner.png
END:VEVENT
BEGIN:VEVENT
DTSTART;TZID=Pacific/Honolulu:20251025T220000
DTEND;TZID=Pacific/Honolulu:20251025T235900
DTSTAMP:20260421T210635
CREATED:20250807T010119Z
LAST-MODIFIED:20250807T010119Z
UID:99615-1761429600-1761436740@www.kccnfm100.com
SUMMARY:Saturday Night LIVE at Moani Waikiki
DESCRIPTION:Heineken Silver presents the KCCN FM100 Saturday Night Live at Moani Waikiki. Join the KCCN FM100 crew for the best local bands in Hawaii every Saturday Night. \n21+ Welcome (after 10pm) \n10:00pm – 1:30am \nCOVER CHARGE ($10 – $30) \nDJ Krazy K | Hosted By Micah Banks
URL:https://www.kccnfm100.com/event/saturday-night-live-at-moani-waikiki-6/2025-10-25/
LOCATION:Moani Waikiki\, 2330 Kalakaua Ave #312\, Honolulu\, HI\, 96815\, United States
CATEGORIES:Club,Concert
ATTACH;FMTTYPE=image/png:https://dehayf5mhw1h7.cloudfront.net/wp-content/uploads/sites/1858/2022/02/05000009/SNL-April-banner.png
END:VEVENT
BEGIN:VEVENT
DTSTART;TZID=Pacific/Honolulu:20251018T220000
DTEND;TZID=Pacific/Honolulu:20251018T235900
DTSTAMP:20260421T210635
CREATED:20250807T010119Z
LAST-MODIFIED:20250807T010119Z
UID:99614-1760824800-1760831940@www.kccnfm100.com
SUMMARY:Saturday Night LIVE at Moani Waikiki
DESCRIPTION:Heineken Silver presents the KCCN FM100 Saturday Night Live at Moani Waikiki. Join the KCCN FM100 crew for the best local bands in Hawaii every Saturday Night. \n21+ Welcome (after 10pm) \n10:00pm – 1:30am \nCOVER CHARGE ($10 – $30) \nDJ Krazy K | Hosted By Micah Banks
URL:https://www.kccnfm100.com/event/saturday-night-live-at-moani-waikiki-6/2025-10-18/
LOCATION:Moani Waikiki\, 2330 Kalakaua Ave #312\, Honolulu\, HI\, 96815\, United States
CATEGORIES:Club,Concert
ATTACH;FMTTYPE=image/png:https://dehayf5mhw1h7.cloudfront.net/wp-content/uploads/sites/1858/2022/02/05000009/SNL-April-banner.png
END:VEVENT
BEGIN:VEVENT
DTSTART;TZID=Pacific/Honolulu:20251011T220000
DTEND;TZID=Pacific/Honolulu:20251011T235900
DTSTAMP:20260421T210635
CREATED:20250807T010119Z
LAST-MODIFIED:20250807T010119Z
UID:99613-1760220000-1760227140@www.kccnfm100.com
SUMMARY:Saturday Night LIVE at Moani Waikiki
DESCRIPTION:Heineken Silver presents the KCCN FM100 Saturday Night Live at Moani Waikiki. Join the KCCN FM100 crew for the best local bands in Hawaii every Saturday Night. \n21+ Welcome (after 10pm) \n10:00pm – 1:30am \nCOVER CHARGE ($10 – $30) \nDJ Krazy K | Hosted By Micah Banks
URL:https://www.kccnfm100.com/event/saturday-night-live-at-moani-waikiki-6/2025-10-11/
LOCATION:Moani Waikiki\, 2330 Kalakaua Ave #312\, Honolulu\, HI\, 96815\, United States
CATEGORIES:Club,Concert
ATTACH;FMTTYPE=image/png:https://dehayf5mhw1h7.cloudfront.net/wp-content/uploads/sites/1858/2022/02/05000009/SNL-April-banner.png
END:VEVENT
BEGIN:VEVENT
DTSTART;TZID=Pacific/Honolulu:20251004T220000
DTEND;TZID=Pacific/Honolulu:20251004T235900
DTSTAMP:20260421T210635
CREATED:20250807T010119Z
LAST-MODIFIED:20250807T010119Z
UID:99612-1759615200-1759622340@www.kccnfm100.com
SUMMARY:Saturday Night LIVE at Moani Waikiki
DESCRIPTION:Heineken Silver presents the KCCN FM100 Saturday Night Live at Moani Waikiki. Join the KCCN FM100 crew for the best local bands in Hawaii every Saturday Night. \n21+ Welcome (after 10pm) \n10:00pm – 1:30am \nCOVER CHARGE ($10 – $30) \nDJ Krazy K | Hosted By Micah Banks
URL:https://www.kccnfm100.com/event/saturday-night-live-at-moani-waikiki-6/2025-10-04/
LOCATION:Moani Waikiki\, 2330 Kalakaua Ave #312\, Honolulu\, HI\, 96815\, United States
CATEGORIES:Club,Concert
ATTACH;FMTTYPE=image/png:https://dehayf5mhw1h7.cloudfront.net/wp-content/uploads/sites/1858/2022/02/05000009/SNL-April-banner.png
END:VEVENT
BEGIN:VEVENT
DTSTART;TZID=Pacific/Honolulu:20250927T220000
DTEND;TZID=Pacific/Honolulu:20250927T235900
DTSTAMP:20260421T210635
CREATED:20250807T010119Z
LAST-MODIFIED:20250807T010119Z
UID:99611-1759010400-1759017540@www.kccnfm100.com
SUMMARY:Saturday Night LIVE at Moani Waikiki
DESCRIPTION:Heineken Silver presents the KCCN FM100 Saturday Night Live at Moani Waikiki. Join the KCCN FM100 crew for the best local bands in Hawaii every Saturday Night. \n21+ Welcome (after 10pm) \n10:00pm – 1:30am \nCOVER CHARGE ($10 – $30) \nDJ Krazy K | Hosted By Micah Banks
URL:https://www.kccnfm100.com/event/saturday-night-live-at-moani-waikiki-6/2025-09-27/
LOCATION:Moani Waikiki\, 2330 Kalakaua Ave #312\, Honolulu\, HI\, 96815\, United States
CATEGORIES:Club,Concert
ATTACH;FMTTYPE=image/png:https://dehayf5mhw1h7.cloudfront.net/wp-content/uploads/sites/1858/2022/02/05000009/SNL-April-banner.png
END:VEVENT
BEGIN:VEVENT
DTSTART;TZID=Pacific/Honolulu:20250920T220000
DTEND;TZID=Pacific/Honolulu:20250920T235900
DTSTAMP:20260421T210635
CREATED:20250807T010119Z
LAST-MODIFIED:20250807T010119Z
UID:99610-1758405600-1758412740@www.kccnfm100.com
SUMMARY:Saturday Night LIVE at Moani Waikiki
DESCRIPTION:Heineken Silver presents the KCCN FM100 Saturday Night Live at Moani Waikiki. Join the KCCN FM100 crew for the best local bands in Hawaii every Saturday Night. \n21+ Welcome (after 10pm) \n10:00pm – 1:30am \nCOVER CHARGE ($10 – $30) \nDJ Krazy K | Hosted By Micah Banks
URL:https://www.kccnfm100.com/event/saturday-night-live-at-moani-waikiki-6/2025-09-20/
LOCATION:Moani Waikiki\, 2330 Kalakaua Ave #312\, Honolulu\, HI\, 96815\, United States
CATEGORIES:Club,Concert
ATTACH;FMTTYPE=image/png:https://dehayf5mhw1h7.cloudfront.net/wp-content/uploads/sites/1858/2022/02/05000009/SNL-April-banner.png
END:VEVENT
BEGIN:VEVENT
DTSTART;TZID=Pacific/Honolulu:20250913T220000
DTEND;TZID=Pacific/Honolulu:20250913T235900
DTSTAMP:20260421T210635
CREATED:20250807T010119Z
LAST-MODIFIED:20250807T010119Z
UID:99609-1757800800-1757807940@www.kccnfm100.com
SUMMARY:Saturday Night LIVE at Moani Waikiki
DESCRIPTION:Heineken Silver presents the KCCN FM100 Saturday Night Live at Moani Waikiki. Join the KCCN FM100 crew for the best local bands in Hawaii every Saturday Night. \n21+ Welcome (after 10pm) \n10:00pm – 1:30am \nCOVER CHARGE ($10 – $30) \nDJ Krazy K | Hosted By Micah Banks
URL:https://www.kccnfm100.com/event/saturday-night-live-at-moani-waikiki-6/2025-09-13/
LOCATION:Moani Waikiki\, 2330 Kalakaua Ave #312\, Honolulu\, HI\, 96815\, United States
CATEGORIES:Club,Concert
ATTACH;FMTTYPE=image/png:https://dehayf5mhw1h7.cloudfront.net/wp-content/uploads/sites/1858/2022/02/05000009/SNL-April-banner.png
END:VEVENT
BEGIN:VEVENT
DTSTART;TZID=Pacific/Honolulu:20250906T220000
DTEND;TZID=Pacific/Honolulu:20250906T235900
DTSTAMP:20260421T210635
CREATED:20250807T010119Z
LAST-MODIFIED:20250807T010119Z
UID:99608-1757196000-1757203140@www.kccnfm100.com
SUMMARY:Saturday Night LIVE at Moani Waikiki
DESCRIPTION:Heineken Silver presents the KCCN FM100 Saturday Night Live at Moani Waikiki. Join the KCCN FM100 crew for the best local bands in Hawaii every Saturday Night. \n21+ Welcome (after 10pm) \n10:00pm – 1:30am \nCOVER CHARGE ($10 – $30) \nDJ Krazy K | Hosted By Micah Banks
URL:https://www.kccnfm100.com/event/saturday-night-live-at-moani-waikiki-6/2025-09-06/
LOCATION:Moani Waikiki\, 2330 Kalakaua Ave #312\, Honolulu\, HI\, 96815\, United States
CATEGORIES:Club,Concert
ATTACH;FMTTYPE=image/png:https://dehayf5mhw1h7.cloudfront.net/wp-content/uploads/sites/1858/2022/02/05000009/SNL-April-banner.png
END:VEVENT
BEGIN:VEVENT
DTSTART;TZID=Pacific/Honolulu:20250830T220000
DTEND;TZID=Pacific/Honolulu:20250830T235900
DTSTAMP:20260421T210635
CREATED:20250807T010119Z
LAST-MODIFIED:20250807T010119Z
UID:99607-1756591200-1756598340@www.kccnfm100.com
SUMMARY:Saturday Night LIVE at Moani Waikiki
DESCRIPTION:Heineken Silver presents the KCCN FM100 Saturday Night Live at Moani Waikiki. Join the KCCN FM100 crew for the best local bands in Hawaii every Saturday Night. \n21+ Welcome (after 10pm) \n10:00pm – 1:30am \nCOVER CHARGE ($10 – $30) \nDJ Krazy K | Hosted By Micah Banks
URL:https://www.kccnfm100.com/event/saturday-night-live-at-moani-waikiki-6/2025-08-30/
LOCATION:Moani Waikiki\, 2330 Kalakaua Ave #312\, Honolulu\, HI\, 96815\, United States
CATEGORIES:Club,Concert
ATTACH;FMTTYPE=image/png:https://dehayf5mhw1h7.cloudfront.net/wp-content/uploads/sites/1858/2022/02/05000009/SNL-April-banner.png
END:VEVENT
BEGIN:VEVENT
DTSTART;TZID=Pacific/Honolulu:20250823T220000
DTEND;TZID=Pacific/Honolulu:20250823T235900
DTSTAMP:20260421T210635
CREATED:20250807T010119Z
LAST-MODIFIED:20250807T010119Z
UID:99606-1755986400-1755993540@www.kccnfm100.com
SUMMARY:Saturday Night LIVE at Moani Waikiki
DESCRIPTION:Heineken Silver presents the KCCN FM100 Saturday Night Live at Moani Waikiki. Join the KCCN FM100 crew for the best local bands in Hawaii every Saturday Night. \n21+ Welcome (after 10pm) \n10:00pm – 1:30am \nCOVER CHARGE ($10 – $30) \nDJ Krazy K | Hosted By Micah Banks
URL:https://www.kccnfm100.com/event/saturday-night-live-at-moani-waikiki-6/2025-08-23/
LOCATION:Moani Waikiki\, 2330 Kalakaua Ave #312\, Honolulu\, HI\, 96815\, United States
CATEGORIES:Club,Concert
ATTACH;FMTTYPE=image/png:https://dehayf5mhw1h7.cloudfront.net/wp-content/uploads/sites/1858/2022/02/05000009/SNL-April-banner.png
END:VEVENT
BEGIN:VEVENT
DTSTART;TZID=Pacific/Honolulu:20250816T220000
DTEND;TZID=Pacific/Honolulu:20250816T235900
DTSTAMP:20260421T210635
CREATED:20250807T010119Z
LAST-MODIFIED:20250807T011409Z
UID:99594-1755381600-1755388740@www.kccnfm100.com
SUMMARY:Saturday Night LIVE at Moani Waikiki
DESCRIPTION:Heineken Silver presents the KCCN FM100 Saturday Night Live at Moani Waikiki. Join the KCCN FM100 crew for the best local bands in Hawaii every Saturday Night. \n21+ Welcome (after 10pm) \n10:00pm – 1:30am \nCOVER CHARGE ($10 – $30) \nDJ Krazy K | Hosted By Micah Banks
URL:https://www.kccnfm100.com/event/saturday-night-live-at-moani-waikiki-6/2025-08-16/
LOCATION:Moani Waikiki\, 2330 Kalakaua Ave #312\, Honolulu\, HI\, 96815\, United States
CATEGORIES:Club,Concert
ATTACH;FMTTYPE=image/png:https://dehayf5mhw1h7.cloudfront.net/wp-content/uploads/sites/1858/2022/02/05000009/SNL-April-banner.png
END:VEVENT
END:VCALENDAR