BEGIN:VCALENDAR
VERSION:2.0
PRODID:-//FM100 - ECPv5.6.0//NONSGML v1.0//EN
CALSCALE:GREGORIAN
METHOD:PUBLISH
X-WR-CALNAME:FM100
X-ORIGINAL-URL:https://www.kccnfm100.com
X-WR-CALDESC:Events for FM100
BEGIN:VTIMEZONE
TZID:Pacific/Honolulu
BEGIN:STANDARD
TZOFFSETFROM:-1000
TZOFFSETTO:-1000
TZNAME:HST
DTSTART:20280101T000000
END:STANDARD
TZID:America/New_York
BEGIN:DAYLIGHT
TZOFFSETFROM:-0500
TZOFFSETTO:-0400
TZNAME:EDT
DTSTART:20280312T070000
END:DAYLIGHT
BEGIN:STANDARD
TZOFFSETFROM:-0400
TZOFFSETTO:-0500
TZNAME:EST
DTSTART:20281105T060000
END:STANDARD
END:VTIMEZONE
BEGIN:VEVENT
DTSTART;VALUE=DATE:20280214
DTEND;VALUE=DATE:20280215
DTSTAMP:20260421T201504
CREATED:20190104T234010Z
LAST-MODIFIED:20190104T234010Z
UID:100903-1834099200-1834185599@www.kccnfm100.com
SUMMARY:Valentine's Day
DESCRIPTION:
URL:https://www.kccnfm100.com/event/valentines-day-3/2028-02-14/
ATTACH;FMTTYPE=:
END:VEVENT
BEGIN:VEVENT
DTSTART;VALUE=DATE:20280221
DTEND;VALUE=DATE:20280222
DTSTAMP:20260421T201504
CREATED:20190104T232608Z
LAST-MODIFIED:20190104T232608Z
UID:100949-1834704000-1834790399@www.kccnfm100.com
SUMMARY:Presidents' Day
DESCRIPTION:
URL:https://www.kccnfm100.com/event/presidents-day/2028-02-21/
ATTACH;FMTTYPE=image/jpeg:https://dehayf5mhw1h7.cloudfront.net/wp-content/uploads/sites/1858/2019/01/04232608/presidents-day-sales-2019.jpg
END:VEVENT
BEGIN:VEVENT
DTSTART;VALUE=DATE:20280401
DTEND;VALUE=DATE:20280402
DTSTAMP:20260421T201504
CREATED:20230421T030141Z
LAST-MODIFIED:20230421T030141Z
UID:101294-1838160000-1838246399@www.kccnfm100.com
SUMMARY:April Fools' Day
DESCRIPTION:
URL:https://www.kccnfm100.com/event/april-fools-day/2028-04-01/
ATTACH;FMTTYPE=image/jpeg:https://dehayf5mhw1h7.cloudfront.net/wp-content/uploads/sites/1858/2021/03/30065557/iStock-1465768997.jpg
END:VEVENT
END:VCALENDAR