BEGIN:VCALENDAR
VERSION:2.0
PRODID:-//FM100 - ECPv5.6.0//NONSGML v1.0//EN
CALSCALE:GREGORIAN
METHOD:PUBLISH
X-WR-CALNAME:FM100
X-ORIGINAL-URL:https://www.kccnfm100.com
X-WR-CALDESC:Events for FM100
BEGIN:VTIMEZONE
TZID:Pacific/Honolulu
BEGIN:STANDARD
TZOFFSETFROM:-1000
TZOFFSETTO:-1000
TZNAME:HST
DTSTART:20190101T000000
END:STANDARD
TZID:America/New_York
BEGIN:DAYLIGHT
TZOFFSETFROM:-0500
TZOFFSETTO:-0400
TZNAME:EDT
DTSTART:20190310T070000
END:DAYLIGHT
BEGIN:STANDARD
TZOFFSETFROM:-0400
TZOFFSETTO:-0500
TZNAME:EST
DTSTART:20191103T060000
END:STANDARD
END:VTIMEZONE
BEGIN:VEVENT
DTSTART;VALUE=DATE:20191101
DTEND;VALUE=DATE:20191201
DTSTAMP:20260422T122839
CREATED:20191101T020618Z
LAST-MODIFIED:20191101T020618Z
UID:68028-1572566400-1575158399@www.kccnfm100.com
SUMMARY:Cash For College 808 2019 Instagram Contest
DESCRIPTION:
URL:https://www.kccnfm100.com/event/cash-for-college-808-2019-instagram-contest/
END:VEVENT
BEGIN:VEVENT
DTSTART;VALUE=DATE:20191111
DTEND;VALUE=DATE:20191112
DTSTAMP:20260422T122839
CREATED:20190122T224136Z
LAST-MODIFIED:20220708T135211Z
UID:52207-1573430400-1573516799@www.kccnfm100.com
SUMMARY:Veterans' Day
DESCRIPTION:  \n \nThis Veterans Day\, FM100 the Legend would like to say a big MAHALO to all our veterans for their service and to all those who continue to serve. \nAlso\, our friends over at the Back & Neck Pain Relief Center in Pearl City would also like to honor our veterans by giving them a FREE BENTO for lunch on Veteran’s Day.  So feel free to stop by Dr. Eugene W Kitts D.C.\,N.D. office from 11am – 2pm at the address below. \nBack & Neck Pain Relief Center \n719 Kamehameha Hwy #B101 \nPearl City\, HI 96782 \nhttp://chirohonolulu.com/
URL:https://www.kccnfm100.com/event/veterans-day-2/2019-11-11/
ATTACH;FMTTYPE=image/jpeg:https://dehayf5mhw1h7.cloudfront.net/wp-content/uploads/sites/1858/2019/01/22224136/iStock-1170532598.jpg
END:VEVENT
BEGIN:VEVENT
DTSTART;TZID=Pacific/Honolulu:20191111T170000
DTEND;TZID=Pacific/Honolulu:20191111T190000
DTSTAMP:20260422T122839
CREATED:20190907T002635Z
LAST-MODIFIED:20190907T002635Z
UID:66265-1573491600-1573498800@www.kccnfm100.com
SUMMARY:Monday Night Football at Big City Diner- Seahawks Vs. 49ERS
DESCRIPTION:Come down to Big City Diner at the Windward Mall location on Monday November 11th\, 2019. Watch the Seahawks take on the 49ERS and stay for giveaways and a chance to win a trip to Vegas. We look forward to see you there!
URL:https://www.kccnfm100.com/event/monday-night-football-at-big-city-diner-seahawks-vs-49ers/
LOCATION:Big City Diner\, 46-056 Kamehameha Hwy D-01\, Kaneohe\, HI\, 96744\, United States
END:VEVENT
BEGIN:VEVENT
DTSTART;TZID=Pacific/Honolulu:20191116T170000
DTEND;TZID=Pacific/Honolulu:20191116T210000
DTSTAMP:20260422T122839
CREATED:20191108T223424Z
LAST-MODIFIED:20191108T223424Z
UID:68255-1573923600-1573938000@www.kccnfm100.com
SUMMARY:‘Aha Makahiki at Bishop Museum
DESCRIPTION:
URL:https://www.kccnfm100.com/event/aha-makahiki-at-bishop-museum/
LOCATION:Bishop Museum\, Honolulu\, HI\, United States
END:VEVENT
BEGIN:VEVENT
DTSTART;TZID=Pacific/Honolulu:20191118T170000
DTEND;TZID=Pacific/Honolulu:20191118T190000
DTSTAMP:20260422T122839
CREATED:20190907T004123Z
LAST-MODIFIED:20190907T004123Z
UID:66269-1574096400-1574103600@www.kccnfm100.com
SUMMARY:Monday Night Football at Big City Diner- Chiefs Vs. Chargers
DESCRIPTION:Come down to Big City Diner at the Pearlridge location on Monday November 18th\, 2019. Watch the Chiefs take on the Chargers and stay for giveaways and a chance to win a trip to Vegas. We look forward to see you there!
URL:https://www.kccnfm100.com/event/monday-night-football-at-big-city-diner-chiefs-vs-chargers/
LOCATION:Big City Diner\, 98-211 Pali Momi St #900\, Aiea\, HI\, 96701\, United States
END:VEVENT
BEGIN:VEVENT
DTSTART;TZID=Pacific/Honolulu:20191125T170000
DTEND;TZID=Pacific/Honolulu:20191125T190000
DTSTAMP:20260422T122839
CREATED:20190907T013143Z
LAST-MODIFIED:20190907T013143Z
UID:66277-1574701200-1574708400@www.kccnfm100.com
SUMMARY:Monday Night Football at Big City Diner- Ravens Vs. Rams
DESCRIPTION:Come down to Big City Diner at the Waipio location on Monday November 25th\, 2019. Watch the Ravens take on the Rams and stay for giveaways and a chance to win a trip to Vegas. We look forward to see you there!
URL:https://www.kccnfm100.com/event/monday-night-football-at-big-city-diner-ravens-vs-rams/
LOCATION:Big City Diner\, 94-800 Ukeʻe Street #305\, Waipahu\, HI\, 96797\, United States
END:VEVENT
BEGIN:VEVENT
DTSTART;TZID=Pacific/Honolulu:20191129T200000
DTEND;TZID=Pacific/Honolulu:20191129T220000
DTSTAMP:20260422T122839
CREATED:20190521T003425Z
LAST-MODIFIED:20190521T003425Z
UID:59985-1575057600-1575064800@www.kccnfm100.com
SUMMARY:Jo Koy: Just Kidding World Tour
DESCRIPTION:Comedian Jo Koy will return to Hawaii in November for his “Just Kidding World Tour\,” at the Neal Blaisdell Center! \nMATURE CONTENT – Ages 12 & up will need to purchase a ticket for entry. \nTicket limit of 8 per household. \nThis event provides for ASL seating. \nDue to MATURE CONTENT only ages 12 & up will be allowed to attend the performance.
URL:https://www.kccnfm100.com/event/jo-koy-just-kidding-world-tour/2019-11-29/
LOCATION:Blaisdell Arena\, 777 Ward Ave\, Honolulu\, HI\, 96814\, United States
ATTACH;FMTTYPE=:
END:VEVENT
BEGIN:VEVENT
DTSTART;TZID=Pacific/Honolulu:20191202T170000
DTEND;TZID=Pacific/Honolulu:20191202T190000
DTSTAMP:20260422T122839
CREATED:20190907T013813Z
LAST-MODIFIED:20190907T013813Z
UID:66279-1575306000-1575313200@www.kccnfm100.com
SUMMARY:Monday Night Football at Big City Diner- Vikings Vs. Seahawks
DESCRIPTION:Come down to Big City Diner at the Ward location on Monday December 2nd\, 2019. Watch the Vikings take on the Seahawks and stay for giveaways and a chance to win a trip to Vegas. We look forward to see you there!
URL:https://www.kccnfm100.com/event/monday-night-football-at-big-city-diner-vikings-vs-seahawks/
LOCATION:Big City Diner\, 1060 Auahi St #4\, Honolulu\, HI\, 96814\, United States
END:VEVENT
BEGIN:VEVENT
DTSTART;TZID=Pacific/Honolulu:20191209T170000
DTEND;TZID=Pacific/Honolulu:20191209T190000
DTSTAMP:20260422T122839
CREATED:20190907T014333Z
LAST-MODIFIED:20190907T014333Z
UID:66281-1575910800-1575918000@www.kccnfm100.com
SUMMARY:Monday Night Football at Big City Diner- Giants Vs. Eagles
DESCRIPTION:Come down to Big City Diner at the Kaimuki location on Monday December 9th\, 2019. Watch the Giants take on the Eagles and stay for giveaways and a chance to win a trip to Vegas. We look forward to seeing you there!
URL:https://www.kccnfm100.com/event/monday-night-football-at-big-city-diner-giants-vs-eagles/
LOCATION:Big City Diner\, 3565 Waialae Ave\, Honolulu\, HI\, 96816\, United States
END:VEVENT
BEGIN:VEVENT
DTSTART;TZID=Pacific/Honolulu:20191216T170000
DTEND;TZID=Pacific/Honolulu:20191216T190000
DTSTAMP:20260422T122839
CREATED:20190907T014913Z
LAST-MODIFIED:20190907T014913Z
UID:66283-1576515600-1576522800@www.kccnfm100.com
SUMMARY:Monday Night Football at Big City Diner- Colts Vs. Saints
DESCRIPTION:Come down to Big City Diner at the Kailua location on Monday December 16th\, 2019. Watch the Colts take on the Saints and stay for giveaways and a chance to win a trip to Vegas. We look forward to seeing you there!
URL:https://www.kccnfm100.com/event/monday-night-football-at-big-city-diner-colts-vs-saints/
LOCATION:Big City Diner\, 108 Hekili St #101\, Kailua\, HI\, 96734\, United States
END:VEVENT
BEGIN:VEVENT
DTSTART;TZID=Pacific/Honolulu:20191223T170000
DTEND;TZID=Pacific/Honolulu:20191223T190000
DTSTAMP:20260422T122839
CREATED:20190907T015510Z
LAST-MODIFIED:20190907T015510Z
UID:66285-1577120400-1577127600@www.kccnfm100.com
SUMMARY:Monday Night Football at Big City Diner- Packers Vs. Vikings
DESCRIPTION:Come down to Big City Diner at the Windward Mall location on Monday December 23rd\, 2019. Watch the Packers take on the Vikings and stay for giveaways and a chance to win a trip to Vegas. We look forward to seeing you there!
URL:https://www.kccnfm100.com/event/monday-night-football-at-big-city-diner-packers-vs-vikings/
LOCATION:Big City Diner\, 46-056 Kamehameha Hwy D-01\, Kaneohe\, HI\, 96744\, United States
END:VEVENT
BEGIN:VEVENT
DTSTART;VALUE=DATE:20191224
DTEND;VALUE=DATE:20191225
DTSTAMP:20260422T122839
CREATED:20190122T224252Z
LAST-MODIFIED:20190122T224252Z
UID:52210-1577145600-1577231999@www.kccnfm100.com
SUMMARY:Christmas Eve
DESCRIPTION:
URL:https://www.kccnfm100.com/event/christmas-eve/2019-12-24/
ATTACH;FMTTYPE=:
END:VEVENT
BEGIN:VEVENT
DTSTART;VALUE=DATE:20191225
DTEND;VALUE=DATE:20191226
DTSTAMP:20260422T122839
CREATED:20190122T224625Z
LAST-MODIFIED:20220708T134836Z
UID:52212-1577232000-1577318399@www.kccnfm100.com
SUMMARY:Christmas Day
DESCRIPTION:
URL:https://www.kccnfm100.com/event/christmas-day-2/2019-12-25/
ATTACH;FMTTYPE=image/jpeg:https://dehayf5mhw1h7.cloudfront.net/wp-content/uploads/sites/1858/2019/01/22224625/iStock-1039563238.jpg
END:VEVENT
BEGIN:VEVENT
DTSTART;VALUE=DATE:20191231
DTEND;VALUE=DATE:20200101
DTSTAMP:20260422T122839
CREATED:20190122T224551Z
LAST-MODIFIED:20220708T134629Z
UID:52215-1577750400-1577836799@www.kccnfm100.com
SUMMARY:New Year's Eve
DESCRIPTION:
URL:https://www.kccnfm100.com/event/new-years-eve/2019-12-31/
ATTACH;FMTTYPE=image/jpeg:https://dehayf5mhw1h7.cloudfront.net/wp-content/uploads/sites/1858/2019/01/22224551/Newyears-Eve.jpg
END:VEVENT
BEGIN:VEVENT
DTSTART;TZID=Pacific/Honolulu:20200111T100000
DTEND;TZID=Pacific/Honolulu:20200111T130000
DTSTAMP:20260422T122839
CREATED:20200104T024028Z
LAST-MODIFIED:20200104T024028Z
UID:69614-1578736800-1578747600@www.kccnfm100.com
SUMMARY:‘Drive Out Hunger’ with Hawaii Meals on Wheels
DESCRIPTION:
URL:https://www.kccnfm100.com/event/drive-out-hunger-with-hawaii-meals-on-wheels/
LOCATION:Bayview Golf Course\, 45-285 Kaneohe Bay Dr\, Kaneohe\, HI\, 96744\, United States
END:VEVENT
BEGIN:VEVENT
DTSTART;TZID=Pacific/Honolulu:20200111T110000
DTEND;TZID=Pacific/Honolulu:20200111T130000
DTSTAMP:20260422T122839
CREATED:20200109T023819Z
LAST-MODIFIED:20200109T023819Z
UID:69702-1578740400-1578747600@www.kccnfm100.com
SUMMARY:Hula Bowl is Back at Jack's! Kunia with J.Irie
DESCRIPTION:
URL:https://www.kccnfm100.com/event/hula-bowl-is-back-at-jacks-with-j-irie/
LOCATION:Kunia Shopping Center
END:VEVENT
BEGIN:VEVENT
DTSTART;TZID=Pacific/Honolulu:20200117T170000
DTEND;TZID=Pacific/Honolulu:20200117T220000
DTSTAMP:20260422T122839
CREATED:20191225T073012Z
LAST-MODIFIED:20191225T073012Z
UID:69459-1579280400-1579298400@www.kccnfm100.com
SUMMARY:2020 Chinese New Year Celebration-Year of the Rat
DESCRIPTION:The Chinese Chamber of Commerce of Hawaii presents its annual Chinese New Year Celebration event at Chinatown Cultural Plaza (100 N. Beretania Street) on Friday\, January 17 from 5 p.m. to 10 p.m. and Saturday\, January 18 from 10 a.m. to 10 p.m. \nThe family-friendly event features food and craft booths\, live entertainment\, special cultural performances\, lion and dragon dances\, lion dancing on poles\, and more. \nThe 2020 Narcissus Queen and her court\, along with various lion dance groups\, also will be visiting stores in Chinatown to wish them good luck for the new year as part of a traditional New Year’s blessing known as Choy Cheng on January 17 from 6 p.m. to 9 p.m. \nThis year\, Chinese New Year begins January 25 and 2020 is the Year of the Rat.
URL:https://www.kccnfm100.com/event/2020-chinese-new-year-celebration-year-of-the-rat/2020-01-17/
LOCATION:CHINATOWN HONOLULU
END:VEVENT
BEGIN:VEVENT
DTSTART;TZID=Pacific/Honolulu:20200118T190000
DTEND;TZID=Pacific/Honolulu:20200118T220000
DTSTAMP:20260422T122839
CREATED:20200109T032859Z
LAST-MODIFIED:20200109T032859Z
UID:69715-1579374000-1579384800@www.kccnfm100.com
SUMMARY:2020 Polynesian Bowl
DESCRIPTION:“Where the world’s top high school football players gather to celebrate culture and play the game they love.” The Polynesian Bowl is held annually during the Polynesian Football Hall of Fame Enshrinement Week. NFL Ambassadors include Michael Bennett\, DeForest Buckner\, Marcus Mariota\, Haloti Ngata\, Danny Shelton\, JuJu Smith-Schuster and Ronnie Stanley.
URL:https://www.kccnfm100.com/event/2020-polynesian-bowl/
LOCATION:Aloha Stadium\, 99-500 Salt Lake Blvd\, Honolulu\, HI\, 96818\, United States
ATTACH;FMTTYPE=:
END:VEVENT
BEGIN:VEVENT
DTSTART;TZID=Pacific/Honolulu:20200119T110000
DTEND;TZID=Pacific/Honolulu:20200119T130000
DTSTAMP:20260422T122839
CREATED:20200109T023921Z
LAST-MODIFIED:20200109T023921Z
UID:69704-1579431600-1579438800@www.kccnfm100.com
SUMMARY:Hula Bowl is Back at Jack's! Waianae with Darren Balbarrens
DESCRIPTION:
URL:https://www.kccnfm100.com/event/hula-bowl-is-back-at-jacks-with-darren-balbarrens/
LOCATION:Jack in the Box\, 85-950 Farrington Hwy\, Waianae\, HI\, 96792\, United States
END:VEVENT
BEGIN:VEVENT
DTSTART;TZID=Pacific/Honolulu:20200123T070000
DTEND;TZID=Pacific/Honolulu:20200123T083000
DTSTAMP:20260422T122839
CREATED:20200113T232928Z
LAST-MODIFIED:20200113T232928Z
UID:69812-1579762800-1579768200@www.kccnfm100.com
SUMMARY:10th Annual Project Save Our Streets
DESCRIPTION:
URL:https://www.kccnfm100.com/event/10th-annual-project-save-our-streets/
LOCATION:Tamarind Park\, 1001 Bishop St.\, HI\, 96813\, United States
END:VEVENT
BEGIN:VEVENT
DTSTART;TZID=Pacific/Honolulu:20200124T170000
DTEND;TZID=Pacific/Honolulu:20200126T160000
DTSTAMP:20260422T122839
CREATED:20200115T005943Z
LAST-MODIFIED:20200115T005943Z
UID:69843-1579885200-1580054400@www.kccnfm100.com
SUMMARY:The Big Home Building & Remodeling Show
DESCRIPTION:The BIA-Hawaii Home Building & Remodeling Show is a one-stop-shop for anyone looking to build a new or remodel an existing home. Our exhibitors are licensed contractors and suppliers in compliance with state laws and who have been reviewed by BBB and the Department of Commerce and Consumer Affairs for complaints. With approximately 30\,000 attendees every year\, the Home Building & Remodeling Show is a “must” for local homeowners and potential homeowners. Guests have the opportunity to meet and talk to licensed contractors and suppliers\, attend informative seminars and find a little inspiration.
URL:https://www.kccnfm100.com/event/the-big-home-building-remodeling-show/
LOCATION:Blaisdell Exhibition Hall\, 777 Ward Ave\, Honolulu\, HI\, 96814\, United States
END:VEVENT
BEGIN:VEVENT
DTSTART;TZID=Pacific/Honolulu:20200126T173000
DTEND;TZID=Pacific/Honolulu:20200126T200000
DTSTAMP:20260422T122839
CREATED:20200109T032551Z
LAST-MODIFIED:20200109T032551Z
UID:69711-1580059800-1580068800@www.kccnfm100.com
SUMMARY:Hula Bowl 2020
DESCRIPTION:THE ALL-STAR CLASSIC FOOTBALL GAME HULA BOWL IS BACK! January 26th at Aloha Stadium at 5:30 PM.\nStarting in 1960\, the Hula Bowl game was established as an All-Star game that would only invite NCAA college players from schools across the US. The teams were divided into two teams\, one team from those colleges located in the Eastern and Western United States. The teams were then split into “Aina and Kai ” teams\, the Hawaiian words for Land and Water. \nFollowing this strongly supported return\, the game will be featured in January each year on the island of Oahu. This year\, the game will include NCAA college football players from all divisions\, along with international players from Japan\, Canada\, Australia\, and the UK. In addition\, the game will always include Polynesian players with historic ties to the Islands.
URL:https://www.kccnfm100.com/event/hula-bowl-2020/
LOCATION:Aloha Stadium\, 99-500 Salt Lake Blvd\, Honolulu\, HI\, 96818\, United States
ATTACH;FMTTYPE=:
END:VEVENT
BEGIN:VEVENT
DTSTART;TZID=Pacific/Honolulu:20200131T170000
DTEND;TZID=Pacific/Honolulu:20200131T200000
DTSTAMP:20260422T122839
CREATED:20200119T013002Z
LAST-MODIFIED:20200119T013002Z
UID:69914-1580490000-1580500800@www.kccnfm100.com
SUMMARY:96825 LIVE!
DESCRIPTION:
URL:https://www.kccnfm100.com/event/96825-live/
LOCATION:Hawaii Kai Towne Center\, 333 Keahole St\, Honolulu\, HI\, 96825\, United States
END:VEVENT
BEGIN:VEVENT
DTSTART;TZID=Pacific/Honolulu:20200202T070000
DTEND;TZID=Pacific/Honolulu:20200202T103000
DTSTAMP:20260422T122839
CREATED:20200129T023658Z
LAST-MODIFIED:20200129T023658Z
UID:70085-1580626800-1580639400@www.kccnfm100.com
SUMMARY:MPRRC Race: Johnny Faerber 10K
DESCRIPTION:This 10K starts on Kalakaua Avenue beyond Kapiolani Park tennis courts\, facing Diamond Head\, goes over Diamond Head on Diamond Head Road\, around Triangle Park on Paikau St. back onto Diamond Head Road to 22nd Avenue\, right on Kilauea Avenue\, right on Elepaio Street\, right on Kahala Avenue\, over Diamond Head back to Kapiolani Park finish line at the Queen’s statue. Since this race is in February\, don’t forget to look for whales as you go over Diamond Head – prime part of the whale watching season. This races honors a legendary runner and coach here in Hawaii. Thanks for sharing this experience with us.
URL:https://www.kccnfm100.com/event/mprrc-race-johnny-faerber-10k/
LOCATION:Kapiolani Regional Park\, 3840 Paki Ave\, Honolulu\, HI\, 96815\, United States
END:VEVENT
BEGIN:VEVENT
DTSTART;TZID=Pacific/Honolulu:20200202T130000
DTEND;TZID=Pacific/Honolulu:20200202T170000
DTSTAMP:20260422T122839
CREATED:20200128T032302Z
LAST-MODIFIED:20200128T032302Z
UID:70057-1580648400-1580662800@www.kccnfm100.com
SUMMARY:The Big Game at Big City Diner
DESCRIPTION:Join us at any Big City Diner location (Waipio\, Kailua\, Kaimuki\, Windward Mall\, and Pearlridge) during the Super Bowl to be entered for a chance to win!\nDuring the game on Sunday\, February 2nd 2020\, each Big City Diner location will have fantastic prizes\, giveaways and specials! Win a Trip to Las Vegas\, Enjoy free swag from Miller Lite and $4.00 pints plus much more! \nJoin your favorite FM100 jocks at these locations: \nJ.Irie – Pearlridge \nDarren Balbarrens – Windward Mall
URL:https://www.kccnfm100.com/event/the-big-game-at-big-city-diner/
END:VEVENT
BEGIN:VEVENT
DTSTART;VALUE=DATE:20200213
DTEND;VALUE=DATE:20200214
DTSTAMP:20260422T122839
CREATED:20200129T022442Z
LAST-MODIFIED:20200129T022442Z
UID:70083-1581552000-1581638399@www.kccnfm100.com
SUMMARY:World Radio Day
DESCRIPTION:World Radio Day History\nWorld Radio Day seeks to celebrate the importance of the radio in improving international cooperation\, providing access to information and supporting free speech. The day also serves to promote the radio as a means of communication in times of need and emergency. Radios are still the most readily available medium that can disseminate information to reach the widest and most diverse audiences in the shortest amount of time.
URL:https://www.kccnfm100.com/event/world-radio-day/2020-02-13/
ATTACH;FMTTYPE=:
END:VEVENT
BEGIN:VEVENT
DTSTART;TZID=Pacific/Honolulu:20200215T090000
DTEND;TZID=Pacific/Honolulu:20200216T170000
DTSTAMP:20260422T122839
CREATED:20200128T035401Z
LAST-MODIFIED:20200128T035401Z
UID:70060-1581757200-1581872400@www.kccnfm100.com
SUMMARY:Great Aloha Sports\, Health\, and Fitness Expo
DESCRIPTION:GAR Expo Show Dates & Times\n\nFebruary 15\, 2020 — 9 am to 7 pm\nFebruary 16\, 2020 — 9 am to 5 pm\n\n\n\n\n\n\n\nThe Hawaii Pacific Health Great Aloha Run Sports Health & Fitness Expo (HPHGAR) encourages a healthy and active lifestyle. Our goal is to provide and experience where people can explore health and fitness options and become empowered to improve their quality of life in whatever way feels right for them. \nThe HPHGAR Expo is the central location where more than 20\,000+ race participants must come to pick up their race packets\, socialize and engage with others in the GAR Hawaii running community. It’s truly a gathering place for the health and fit minded. \nOpen to the community\, show patrons experience and action packed\, pet friendly show with offerings of: \n-Participatory Fitness Activities and Demonstrations\n-Special Events like the Hawaii High School Challenge\n-Oahu Open Weightlifting Championships\n-Children’s Activities\n-Daily Prize Giveaways and Great Food\n-An Array of Retail BARGAINS
URL:https://www.kccnfm100.com/event/great-aloha-sports-health-and-fitness-expo/
LOCATION:Blaisdell Exhibition Hall\, 777 Ward Ave\, Honolulu\, HI\, 96814\, United States
END:VEVENT
BEGIN:VEVENT
DTSTART;TZID=Pacific/Honolulu:20200216T090000
DTEND;TZID=Pacific/Honolulu:20200216T180000
DTSTAMP:20260422T122839
CREATED:20200220T024938Z
LAST-MODIFIED:20200220T024938Z
UID:70470-1581843600-1581876000@www.kccnfm100.com
SUMMARY:12th Annual Ukulele Festival in Hawaii
DESCRIPTION:
URL:https://www.kccnfm100.com/event/12th-annual-ukulele-festival-in-hawaii/
LOCATION:Victoria Ward Park\, 980 Auahi Street\, Honolulu\, HI\, 96814\, United States
END:VEVENT
BEGIN:VEVENT
DTSTART;TZID=Pacific/Honolulu:20200217T063000
DTEND;TZID=Pacific/Honolulu:20200217T113000
DTSTAMP:20260422T122839
CREATED:20200128T035522Z
LAST-MODIFIED:20200128T035522Z
UID:70062-1581921000-1581939000@www.kccnfm100.com
SUMMARY:2020 Great Aloha Run
DESCRIPTION:Get your mind and feet ready for the 36th Annual Hawai‘i Pacific Health Great Aloha Run on Monday\, February 17\, 2020! Invite your friends and family to join you and make it an ‘OHANA affair! YOUR participation is why we can give money back to Hawaii’s charities! \n\n\nThe Course\nThe 8.15-mile\, relatively flat course\, starts on Nimitz Hwy fronting Aloha Tower in downtown Honolulu\, winds its way along the historic harbor\, down Nimitz Hwy\, Kamehameha Hwy and on to the Aloha Stadium.
URL:https://www.kccnfm100.com/event/2020-great-aloha-run/
END:VEVENT
BEGIN:VEVENT
DTSTART;TZID=Pacific/Honolulu:20200223T063000
DTEND;TZID=Pacific/Honolulu:20200223T113000
DTSTAMP:20260422T122839
CREATED:20200129T025706Z
LAST-MODIFIED:20200129T025706Z
UID:70088-1582439400-1582457400@www.kccnfm100.com
SUMMARY:MPRRC Race: 2020 Kailua 10-Miler\, 5K and 1 Mile Fun Run
DESCRIPTION:The Kailua 10-Miler starts at the Boys & Girls Club\, 145 Kainalu Drive\, and goes around Enchanted Lake\, out to Lanikai and back. The 5K is out and back along the same course. The 1-Mile Fun Run will go through a beautiful Kailua neighborhood. The Fun Run will not be timed. Although this is not a new race\, it is a new course. This is a nice flat course – no big hill at the end! \nOur Partner for this event is the Hawaii State 4-H Program\, helping young people\, ages 5 – 19\, develop life skills and form positive attitudes that will enable them to become self-directing\, productive\, and contributing members of society.
URL:https://www.kccnfm100.com/event/mprrc-race-2020-kailua-10-miler-5k-and-1-mile-fun-run/
LOCATION:Boys & Girls Club of Hawaii- Windward\, 145 S Kainalu Drive\, Kailua\, HI\, 96734\, United States
ATTACH;FMTTYPE=:
END:VEVENT
END:VCALENDAR